BEGIN:VCALENDAR
VERSION:2.0
PRODID:-//BRF Nyponet - ECPv5.2.1//NONSGML v1.0//EN
CALSCALE:GREGORIAN
METHOD:PUBLISH
X-WR-CALNAME:BRF Nyponet
X-ORIGINAL-URL:https://nyponet.hsbbrfwebb.se
X-WR-CALDESC:Events for BRF Nyponet
BEGIN:VTIMEZONE
TZID:Europe/Paris
BEGIN:DAYLIGHT
TZOFFSETFROM:+0100
TZOFFSETTO:+0200
TZNAME:CEST
DTSTART:20210328T010000
END:DAYLIGHT
BEGIN:STANDARD
TZOFFSETFROM:+0200
TZOFFSETTO:+0100
TZNAME:CET
DTSTART:20211031T010000
END:STANDARD
END:VTIMEZONE
BEGIN:VEVENT
DTSTART;TZID=Europe/Paris:20210424T103000
DTEND;TZID=Europe/Paris:20210424T120000
DTSTAMP:20260421T003941
CREATED:20210422T123436Z
LAST-MODIFIED:20210422T123436Z
UID:1652-1619260200-1619265600@nyponet.hsbbrfwebb.se
SUMMARY:Brf Nyponets vårstädning
DESCRIPTION:Hej alla glada medlemmar! \nNu när våren står runt hörnet tänker vi att det är ett ypperligt tillfälle för oss att tillsammans\ngöra fint utanför vårt hus inför den stundande våren och sommaren. Styrelsen bjuder därför in\ntill en gemensam vårstädning den 24 april. Ta chansen och gör en god gärning för föreningen\nsamtidigt som du får träffa alla trevliga grannar och oss i styrelsen. \nVi träffas vid grillplatsen kl. 10:30\, men man är naturligtvis välkommen att ansluta när man kan.\nTrädgårdsredskap och dylikt kommer att finnas\, men man är självklart välkommen att ta med\negna om man så önskar. Deltagandet sker kravlöst och efter bästa förmåga. \nVår lilla vårstädning avslutas runt lunch med en gemensam korvgrillning där vi bjuder på korv\noch tillhörande dryck! Vegetariskt alternativ kommer att finnas. \nAnmälan? Nej\, det behövs inte! Men vi hoppas såklart på att ni vill delta så att vi får träffa så\nmånga som möjligt av våra medlemmar. \nDå aktiviteten äger rum utomhus reserverar vi oss för dåligt väder. Skulle det vara så att\nvädergudarna inte är på vår sida så kommer vi på något sätt\, under morgonen den 24 april\,\nmeddela er att aktiviteten blir inställd. Vi hoppas då kunna boka om vårstädningen till ett senare\ntillfälle. \nHoppas att vi ses! \n/Styrelsen
URL:https://nyponet.hsbbrfwebb.se/evenemang/brf-nyponets-varstadning/
LOCATION:Grillplatsen
END:VEVENT
END:VCALENDAR